BEGIN:VCALENDAR
VERSION:2.0
PRODID:-//Tukios.com/
BEGIN:VEVENT
UID:175af2b0-f27c-4dfa-93ee-fab4bd80bd8e@obits.crockerfuneralhome.com
DTSTAMP:20260421T201423Z
DTSTART:20260501
SUMMARY:Burial
DESCRIPTION:
URL:https://obits.crockerfuneralhome.com/shirley-lee
LOCATION: 2320 East Washington Street  Suffolk VA 23434
GEO:36.7358415;-76.5566125
END:VEVENT
END:VCALENDAR