BEGIN:VCALENDAR
VERSION:2.0
PRODID:-//Tukios.com/
BEGIN:VEVENT
UID:d3155d43-9d60-4ae8-9add-9f6fe5303e34@obits.crockerfuneralhome.com
DTSTAMP:20260421T201023Z
DTSTART:20260501T160000Z
DTEND:20260501T170000Z
SUMMARY:Celebration of Life
DESCRIPTION:
URL:https://obits.crockerfuneralhome.com/shirley-lee
LOCATION: 1056 Portsmouth Boulevard  Suffolk VA 23434
GEO:36.744965;-76.549097
END:VEVENT
END:VCALENDAR