BEGIN:VCALENDAR
VERSION:2.0
PRODID:-//Tukios.com/
BEGIN:VEVENT
UID:68f99e9c-7168-4dbc-b21d-ce3a3b0ad9ac@obits.crockerfuneralhome.com
DTSTAMP:20260421T201540Z
DTSTART:20260428T190000Z
DTEND:20260428T230000Z
SUMMARY:Viewing
DESCRIPTION:
URL:https://obits.crockerfuneralhome.com/shirley-lee
LOCATION: 900 East Washington Street  Suffolk VA 23434
GEO:36.7252479;-76.5697291
END:VEVENT
END:VCALENDAR