BEGIN:VCALENDAR
VERSION:2.0
PRODID:-//Tukios.com/
BEGIN:VEVENT
UID:cc2ce6b4-5d68-4e8d-aa5a-668946fa397b@obits.crockerfuneralhome.com
DTSTAMP:20260424T082802Z
DTSTART:20260504T170000Z
DTEND:20260504T180000Z
SUMMARY:Graveside Service
DESCRIPTION:
URL:https://obits.crockerfuneralhome.com/jerry-young
LOCATION:Albert G. Horton, Jr. Memorial Veterans Cemetery 5310 Milners 
	Road  Suffolk VA 23434
GEO:36.824642;-76.637983
END:VEVENT
END:VCALENDAR