BEGIN:VCALENDAR
VERSION:2.0
PRODID:-//Tukios.com/
BEGIN:VEVENT
UID:67848f8f-45f2-495f-bc75-13b96a761358@obits.crockerfuneralhome.com
DTSTAMP:20260421T195903Z
DTSTART:20260502
SUMMARY:Interment
DESCRIPTION:
URL:https://obits.crockerfuneralhome.com/gladys-rodgers
LOCATION: 790 Middle Swamp Rd  Corapeake NC 27926
GEO:36.494266;-76.6572258
END:VEVENT
END:VCALENDAR