BEGIN:VCALENDAR
VERSION:2.0
PRODID:-//Tukios.com/
BEGIN:VEVENT
UID:e1a2ab34-c4f2-45b2-8d9c-e03797bed374@obits.crockerfuneralhome.com
DTSTAMP:20260421T200244Z
DTSTART:20260502T160000Z
DTEND:20260502T170000Z
SUMMARY:Celebration of Life
DESCRIPTION:
URL:https://obits.crockerfuneralhome.com/gladys-rodgers
LOCATION: 790 Middle Swamp Rd  Corapeake NC 27926
GEO:36.494266;-76.6572258
END:VEVENT
END:VCALENDAR